BEGIN:VCALENDAR
VERSION:2.0
PRODID:-//Tukios.com/
BEGIN:VEVENT
UID:c3ac5aac-0129-4e3b-aefe-d72f0d277b2b@www.byrdandflanigan.com
DTSTAMP:20260425T180806Z
DTSTART:20260425T150000Z
DTEND:20260425T180000Z
SUMMARY:Celebration of Life
DESCRIPTION:
URL:https://www.byrdandflanigan.com/obituaries/prasad-karipineni
LOCATION: 288 Hurricane Shoals Rd NE  Lawrenceville GA 30046
GEO:33.9745232;-83.9819691
END:VEVENT
END:VCALENDAR