BEGIN:VCALENDAR
VERSION:2.0
PRODID:-//Tukios.com/
BEGIN:VEVENT
UID:182e1650-72ab-41e7-b7bb-7470b86cb51b@www.byrdandflanigan.com
DTSTAMP:20260425T182546Z
DTSTART:20260425T193000Z
DTEND:20260425T203000Z
SUMMARY:Memorial Service
DESCRIPTION:
URL:https://www.byrdandflanigan.com/obituaries/johnny-spell
LOCATION: 288 Hurricane Shoals Rd NE  Lawrenceville GA 30046
GEO:33.9745232;-83.9819691
END:VEVENT
END:VCALENDAR