BEGIN:VCALENDAR
VERSION:2.0
PRODID:-//Tukios.com/
BEGIN:VEVENT
UID:407a3361-a324-4c92-a6d4-76e0ecf48607@www.byrdandflanigan.com
DTSTAMP:20260422T190545Z
DTSTART:20260427
SUMMARY:Interment
DESCRIPTION:
URL:https://www.byrdandflanigan.com/obituaries/david-chitwood
LOCATION: 925 Lawrenceville Hwy  Lawrenceville GA 30046
GEO:33.9448613;-84.0125625
END:VEVENT
END:VCALENDAR