BEGIN:VCALENDAR
VERSION:2.0
PRODID:-//Tukios.com/
BEGIN:VEVENT
UID:71ab4817-f4d0-4374-991d-7303a9dddbbd@www.byrdandflanigan.com
DTSTAMP:20260422T190750Z
DTSTART:20260426T190000Z
DTEND:20260426T230000Z
SUMMARY:Visitation with Family
DESCRIPTION:
URL:https://www.byrdandflanigan.com/obituaries/david-chitwood
LOCATION: 288 Hurricane Shoals Rd NE  Lawrenceville GA 30046
GEO:33.9745232;-83.9819691
END:VEVENT
END:VCALENDAR