BEGIN:VCALENDAR
VERSION:2.0
PRODID:-//Tukios.com/
BEGIN:VEVENT
UID:e3fcf7ad-4000-4356-ade7-86839ecaed5d@www.byrdandflanigan.com
DTSTAMP:20260422T190257Z
DTSTART:20260427T150000Z
DTEND:20260427T160000Z
SUMMARY:Mass
DESCRIPTION:
URL:https://www.byrdandflanigan.com/obituaries/david-chitwood
LOCATION:St Lawrence Catholic Church 319 Grayson Hwy  Lawrenceville GA 
	30046
GEO:33.9431918;-83.9854396
END:VEVENT
END:VCALENDAR