BEGIN:VCALENDAR
VERSION:2.0
PRODID:-//Tukios.com/
BEGIN:VEVENT
UID:d2724708-c48a-4730-be88-ae7b51f33e25@www.byrdandflanigan.com
DTSTAMP:20260424T013730Z
DTSTART:20260429T174500Z
DTEND:20260429T184500Z
SUMMARY:Reception
DESCRIPTION:
URL:https://www.byrdandflanigan.com/obituaries/andres-rubio-salazar
LOCATION: 755 Lawrenceville Suwanee Rd. Suite 1210  Lawrenceville GA 
	30043
GEO:33.9643981;-84.0226866
END:VEVENT
END:VCALENDAR