BEGIN:VCALENDAR
VERSION:2.0
PRODID:-//Tukios.com/
BEGIN:VEVENT
UID:0e865c0f-085c-42fb-baab-e259f0d04b32@www.byrdandflanigan.com
DTSTAMP:20260424T013844Z
DTSTART:20260429T160000Z
DTEND:20260429T170000Z
SUMMARY:Funeral Mass
DESCRIPTION:
URL:https://www.byrdandflanigan.com/obituaries/andres-rubio-salazar
LOCATION: 319 Grayson Hwy,  Lawrenceville GA 30046
GEO:33.9431918;-83.9854396
END:VEVENT
END:VCALENDAR